BEGIN:VCALENDAR
VERSION:2.0
PRODID:-//Vulkanteufel Singen 2016 e.V. - ECPv6.15.20//NONSGML v1.0//EN
CALSCALE:GREGORIAN
METHOD:PUBLISH
X-ORIGINAL-URL:https://vulkanteufel-singen.de
X-WR-CALDESC:Veranstaltungen für Vulkanteufel Singen 2016 e.V.
REFRESH-INTERVAL;VALUE=DURATION:PT1H
X-Robots-Tag:noindex
X-PUBLISHED-TTL:PT1H
BEGIN:VTIMEZONE
TZID:UTC
BEGIN:STANDARD
TZOFFSETFROM:+0000
TZOFFSETTO:+0000
TZNAME:UTC
DTSTART:20240101T000000
END:STANDARD
END:VTIMEZONE
BEGIN:VEVENT
DTSTART;TZID=UTC:20251111T190000
DTEND;TZID=UTC:20251111T233000
DTSTAMP:20260421T140346
CREATED:20250513T153931Z
LAST-MODIFIED:20250513T153933Z
UID:1019-1762887600-1762903800@vulkanteufel-singen.de
SUMMARY:Fasnachtseröffnung
DESCRIPTION:Wir lassen unsern Oberteufel wieder auferstehen und läuten die Fasnachts-Saison ein.Veranstaltungsort: Hölzle König Singen
URL:https://vulkanteufel-singen.de/event/fasnachtseroeffnung-2/
END:VEVENT
END:VCALENDAR